BEGIN:VCALENDAR
METHOD:PUBLISH
PRODID:Data::ICal 0.13
VERSION:2.0
BEGIN:VEVENT
DESCRIPTION:
DTSTAMP:20260419T140747Z
DTSTART;TZID=America/New_York:20260618T190000
DTEND;TZID=America/New_York:20260618T230000
LOCATION:1000 North Carolina Music Factory Blvd\, Charlotte\, North Carolina\, 28206
SUMMARY:Wale &amp; Smino &#8211; Everything Is…The Tour
UID:6233891-1781809200-1781823600
END:VEVENT
END:VCALENDAR
