BEGIN:VCALENDAR
METHOD:PUBLISH
PRODID:Data::ICal 0.13
VERSION:2.0
BEGIN:VEVENT
DESCRIPTION:
DTSTAMP:20260420T162055Z
DTSTART;TZID=America/New_York:20261018T190000
DTEND;TZID=America/New_York:20261018T230000
LOCATION:333 E. Trade St \, Charlotte \, North Carolina\, 28202
SUMMARY:Teddy Swims- The Ugly Tour  Oct 18, 2026 @Spectrum Center
UID:6253542-1792350000-1792364400
END:VEVENT
END:VCALENDAR
