BEGIN:VCALENDAR
METHOD:PUBLISH
PRODID:Data::ICal 0.13
VERSION:2.0
BEGIN:VEVENT
DESCRIPTION:[ione_embed src=//www.youtube.com/embed/9uDFqHWfz8s service=youtube width=560 height=315 type=iframe]
DTSTAMP:20260420T234006Z
DTSTART;TZID=America/New_York:20150211T180000
DTEND;TZID=America/New_York:20150211T200000
LOCATION:4101 N. Tryon St\, Charlotte\, NC
SUMMARY:Sugar Creek Charter School Open House
UID:3174215-1423677600-1423684800
END:VEVENT
END:VCALENDAR
