BEGIN:VCALENDAR
METHOD:PUBLISH
PRODID:Data::ICal 0.13
VERSION:2.0
BEGIN:VEVENT
DESCRIPTION:
DTSTAMP:20260422T044051Z
DTSTART;TZID=America/New_York:20260520T190000
DTEND;TZID=America/New_York:20260520T230000
LOCATION:707 Pavilion Blvd\, Charlotte\, North Carolina\, 28262
SUMMARY:Pitbull &#8211; I&#8217;m Back With special guest Lil Jon
UID:6180066-1779303600-1779318000
END:VEVENT
END:VCALENDAR
