BEGIN:VCALENDAR
METHOD:PUBLISH
PRODID:Data::ICal 0.13
VERSION:2.0
BEGIN:VEVENT
DESCRIPTION:[caption id=&quot;attachment_3124397&quot; align=&quot;aligncenter&quot; width=&quot;650&quot;] Source: Lust of Charlotte 1 / Lust of Charlotte[/caption]
DTSTAMP:20260425T115318Z
DTSTART;TZID=America/New_York:20150411T210000
DTEND;TZID=America/New_York:20150412T020000
LOCATION:124 Atando Ave\, Charlotte\, NC\, 28206
SUMMARY:One Year Anniversary Grand Finale ft. Dominique Chinn at Lust of Charlotte
UID:3174271-1428786000-1428804000
END:VEVENT
END:VCALENDAR
