BEGIN:VCALENDAR
METHOD:PUBLISH
PRODID:Data::ICal 0.13
VERSION:2.0
BEGIN:VEVENT
DESCRIPTION:
DTSTAMP:20260419T143755Z
DTSTART;TZID=America/New_York:20260430T082602
DTEND;TZID=America/New_York:20260430T082602
LOCATION:
SUMMARY:Nana Morrison&#8217;s Soul Food
UID:6253831-1777537562-1777537562
END:VEVENT
END:VCALENDAR
