BEGIN:VCALENDAR
METHOD:PUBLISH
PRODID:Data::ICal 0.13
VERSION:2.0
BEGIN:VEVENT
DESCRIPTION:
DTSTAMP:20260422T051916Z
DTSTART;TZID=America/New_York:20260513T190000
DTEND;TZID=America/New_York:20260513T230000
LOCATION:707 Pavilion Blvd\, Charlotte\, North Carolina\, 28262
SUMMARY:Kid Cudi &#8211; The Rebel Ragers Tour With special guests M.I.A., Big Boy, A-Trak
UID:6194039-1778698800-1778713200
END:VEVENT
END:VCALENDAR
