BEGIN:VCALENDAR
METHOD:PUBLISH
PRODID:Data::ICal 0.13
VERSION:2.0
BEGIN:VEVENT
DESCRIPTION:
DTSTAMP:20260422T044539Z
DTSTART;TZID=America/New_York:20260517T190000
DTEND;TZID=America/New_York:20260517T223000
LOCATION:2900 E Independence Blvd \, Charlotte\, North Carolina\, 28205
SUMMARY:John Legend &#8211; An Evening of Songs &amp; Stories
UID:6179985-1779044400-1779057000
END:VEVENT
END:VCALENDAR
