BEGIN:VCALENDAR
METHOD:PUBLISH
PRODID:Data::ICal 0.13
VERSION:2.0
BEGIN:VEVENT
DESCRIPTION:
DTSTAMP:20260421T211750Z
DTSTART;TZID=America/New_York:20260711T190000
DTEND;TZID=America/New_York:20260711T233000
LOCATION:333 E. Trade St \, Charlotte\, North Carolina\, 28202
SUMMARY:J. Cole &#8211; The Fall-Off Tour Spectrum Center Charlotte
UID:6246163-1783796400-1783812600
END:VEVENT
END:VCALENDAR
