BEGIN:VCALENDAR
METHOD:PUBLISH
PRODID:Data::ICal 0.13
VERSION:2.0
BEGIN:VEVENT
DESCRIPTION:
DTSTAMP:20260420T183046Z
DTSTART;TZID=America/New_York:20260521T190000
DTEND;TZID=America/New_York:20260521T230000
LOCATION:333 E. Trade St\, Charlotte\, North Carolina\, 28202
SUMMARY:Don Toliver &#8211; Octane Tour With special guests SahBabii &amp; SoFaygo
UID:6214164-1779390000-1779404400
END:VEVENT
END:VCALENDAR
