BEGIN:VCALENDAR
METHOD:PUBLISH
PRODID:Data::ICal 0.13
VERSION:2.0
BEGIN:VEVENT
DESCRIPTION:Bruno Mars is bringing The Romantic Tour to Bank of America Stadium Charlotte on April 29th! 



Bruno Mars – The Romantic Tour With Anderson .Paak as DJ PEE.WEE and Leon Thomas
DTSTAMP:20260424T182836Z
DTSTART;TZID=America/New_York:20260429T190000
DTEND;TZID=America/New_York:20260429T230000
LOCATION:800 S. Mint St\, Charlotte\, North Carolina\, 28202
SUMMARY:Bruno Mars – The Romantic Tour With Anderson .Paak as DJ PEE.WEE and Leon Thomas
UID:6109536-1777489200-1777503600
END:VEVENT
END:VCALENDAR
